BEGIN:VCALENDAR
VERSION:2.0
PRODID:-//soulshowmike.org - ECPv6.15.20//NONSGML v1.0//EN
CALSCALE:GREGORIAN
METHOD:PUBLISH
X-ORIGINAL-URL:https://soulshowmike.org
X-WR-CALDESC:Events for soulshowmike.org
REFRESH-INTERVAL;VALUE=DURATION:PT1H
X-Robots-Tag:noindex
X-PUBLISHED-TTL:PT1H
BEGIN:VTIMEZONE
TZID:America/New_York
BEGIN:DAYLIGHT
TZOFFSETFROM:-0500
TZOFFSETTO:-0400
TZNAME:EDT
DTSTART:20230312T070000
END:DAYLIGHT
BEGIN:STANDARD
TZOFFSETFROM:-0400
TZOFFSETTO:-0500
TZNAME:EST
DTSTART:20231105T060000
END:STANDARD
BEGIN:DAYLIGHT
TZOFFSETFROM:-0500
TZOFFSETTO:-0400
TZNAME:EDT
DTSTART:20240310T070000
END:DAYLIGHT
BEGIN:STANDARD
TZOFFSETFROM:-0400
TZOFFSETTO:-0500
TZNAME:EST
DTSTART:20241103T060000
END:STANDARD
BEGIN:DAYLIGHT
TZOFFSETFROM:-0500
TZOFFSETTO:-0400
TZNAME:EDT
DTSTART:20250309T070000
END:DAYLIGHT
BEGIN:STANDARD
TZOFFSETFROM:-0400
TZOFFSETTO:-0500
TZNAME:EST
DTSTART:20251102T060000
END:STANDARD
END:VTIMEZONE
BEGIN:VEVENT
DTSTART;TZID=America/New_York:20240921T120000
DTEND;TZID=America/New_York:20240921T153000
DTSTAMP:20260422T042706
CREATED:20240921T122136Z
LAST-MODIFIED:20240921T122144Z
UID:5346-1726920000-1726932600@soulshowmike.org
SUMMARY:soulshowmike@golden age - special time
DESCRIPTION:
URL:https://soulshowmike.org/event/soulshowmikegolden-age-special-time/
LOCATION:Golden Age Beer Co. (Homestead)\, 337 Eighth Ave.\, Homestead\, PA\, 15210\, United States
END:VEVENT
BEGIN:VEVENT
DTSTART;TZID=America/New_York:20240918T180000
DTEND;TZID=America/New_York:20240918T210000
DTSTAMP:20260422T042706
CREATED:20240917T155320Z
LAST-MODIFIED:20240917T155324Z
UID:5343-1726682400-1726693200@soulshowmike.org
SUMMARY:soulshowmike at Lorelei
DESCRIPTION:Join Mike Canton for a sneak preview of the upcoming Tito Jackson and Frankie Beverly broadcast tribute.
URL:https://soulshowmike.org/event/soulshowmike-at-lorelei-24/
LOCATION:Lorelei (East Liberty)\, 124 SOUTH HIGHLAND AVENUE\, PA\, 15206\, United States
END:VEVENT
BEGIN:VEVENT
DTSTART;TZID=America/New_York:20240914T150000
DTEND;TZID=America/New_York:20240914T180000
DTSTAMP:20260422T042706
CREATED:20240911T123519Z
LAST-MODIFIED:20240911T123523Z
UID:5340-1726326000-1726336800@soulshowmike.org
SUMMARY:soulshowmike at Golden Age
DESCRIPTION:
URL:https://soulshowmike.org/event/soulshowmike-at-golden-age-14/
LOCATION:Golden Age Beer Co. (Homestead)\, 337 Eighth Ave.\, Homestead\, PA\, 15210\, United States
END:VEVENT
BEGIN:VEVENT
DTSTART;TZID=America/New_York:20240911T180000
DTEND;TZID=America/New_York:20240911T210000
DTSTAMP:20260422T042706
CREATED:20240911T123134Z
LAST-MODIFIED:20240911T123142Z
UID:5338-1726077600-1726088400@soulshowmike.org
SUMMARY:soulshowmike at Lorelei
DESCRIPTION:
URL:https://soulshowmike.org/event/soulshowmike-at-lorelei-23/
LOCATION:Lorelei (East Liberty)\, 124 SOUTH HIGHLAND AVENUE\, PA\, 15206\, United States
END:VEVENT
BEGIN:VEVENT
DTSTART;TZID=America/New_York:20240910T193000
DTEND;TZID=America/New_York:20240910T220000
DTSTAMP:20260422T042706
CREATED:20240617T110534Z
LAST-MODIFIED:20240617T110540Z
UID:5206-1725996600-1726005600@soulshowmike.org
SUMMARY:Ghost-Note at Pgh Winery
DESCRIPTION:
URL:https://soulshowmike.org/event/ghost-note-at-pgh-winery/
LOCATION:PA
END:VEVENT
BEGIN:VEVENT
DTSTART;TZID=America/New_York:20240907T150000
DTEND;TZID=America/New_York:20240907T180000
DTSTAMP:20260422T042706
CREATED:20240906T210537Z
LAST-MODIFIED:20240906T210545Z
UID:5330-1725721200-1725732000@soulshowmike.org
SUMMARY:soulshowmike at Golden Age Beer Co.
DESCRIPTION:
URL:https://soulshowmike.org/event/soulshowmike-at-golden-age-beer-co/
LOCATION:Golden Age Beer Co. (Homestead)\, 337 Eighth Ave.\, Homestead\, PA\, 15210\, United States
END:VEVENT
BEGIN:VEVENT
DTSTART;TZID=America/New_York:20240907T150000
DTEND;TZID=America/New_York:20240907T180000
DTSTAMP:20260422T042706
CREATED:20240904T153622Z
LAST-MODIFIED:20240904T153625Z
UID:5318-1725721200-1725732000@soulshowmike.org
SUMMARY:soulshowmike at Golden Age
DESCRIPTION:
URL:https://soulshowmike.org/event/soulshowmike-at-golden-age-13/
LOCATION:Golden Age Beer Co. (Homestead)\, 337 Eighth Ave.\, Homestead\, PA\, 15210\, United States
END:VEVENT
BEGIN:VEVENT
DTSTART;TZID=America/New_York:20240904T180000
DTEND;TZID=America/New_York:20240904T210000
DTSTAMP:20260422T042706
CREATED:20240904T153435Z
LAST-MODIFIED:20240904T153439Z
UID:5316-1725472800-1725483600@soulshowmike.org
SUMMARY:soulshowmike at Lorelei
DESCRIPTION:
URL:https://soulshowmike.org/event/soulshowmike-at-lorelei-22/
LOCATION:Lorelei (East Liberty)\, 124 SOUTH HIGHLAND AVENUE\, PA\, 15206\, United States
END:VEVENT
BEGIN:VEVENT
DTSTART;TZID=America/New_York:20240719T090000
DTEND;TZID=America/New_York:20240719T100000
DTSTAMP:20260422T042706
CREATED:20240716T205930Z
LAST-MODIFIED:20240716T210740Z
UID:5266-1721379600-1721383200@soulshowmike.org
SUMMARY:soulshowmike interview on WTJX.org
DESCRIPTION:Mike Canton chats with Neville James on WTJX-FM\, US Virgin Islands.  James is the longtime host of “Analyze This\,” the popular daily current events program.  WTJX was The Soul Show’s first radio syndication partner.
URL:https://soulshowmike.org/event/soulshowmike-interview-on-wtjx-org/
LOCATION:PA
END:VEVENT
BEGIN:VEVENT
DTSTART;TZID=America/New_York:20240717T180000
DTEND;TZID=America/New_York:20240717T210000
DTSTAMP:20260422T042706
CREATED:20240716T205554Z
LAST-MODIFIED:20240716T205601Z
UID:5264-1721239200-1721250000@soulshowmike.org
SUMMARY:soulshowmike at Lorelei
DESCRIPTION:
URL:https://soulshowmike.org/event/soulshowmike-at-lorelei-21/
LOCATION:Lorelei (East Liberty)\, 124 SOUTH HIGHLAND AVENUE\, PA\, 15206\, United States
END:VEVENT
BEGIN:VEVENT
DTSTART;TZID=America/New_York:20240629T130000
DTEND;TZID=America/New_York:20240629T210000
DTSTAMP:20260422T042706
CREATED:20240626T121740Z
LAST-MODIFIED:20240626T121744Z
UID:5220-1719666000-1719694800@soulshowmike.org
SUMMARY:soulshowmike's "Stages of Black" photo exhibition
DESCRIPTION:“Stages of Black” is a photographic presentation of African-diaspora musical artists performing in the greater Pittsburgh area.  Mike Canton\, host and producer of The Soul Show on WZUM-FM The Pittsburgh Jazz Channel\, has been capturing high-quality imagery for fifteen years as an extension of his broadcast work.  With the media access granted by major organizations such as the Pittsburgh Cultural Trust and the August Wilson African American Cultural Center\, Canton photographs from unusual angles such as behind stage and from bird’s-eye vantage points.  He is the the most ubiquitous photographer of the local Black music scene. \n\n\n\nOver the full day of FusionFest\, “Stages of Black” will project large images on a screen or appropriate wall on the Greenwood Plan interior.  Canton will assemble\, from his collection of 10K images\, approximately 2500 photos for the presentation.  They will be staged as hourly “shows\,” alternating between local and national artist focus.  Mike envisions this presentation as well suited for a sitting or eating space within the FusionFest layout\, given that a viewer might want to observe for 5-10 minutes.
URL:https://soulshowmike.org/event/soulshowmikes-stages-of-black-photo-exhibition/
LOCATION:PA
END:VEVENT
BEGIN:VEVENT
DTSTART;TZID=America/New_York:20240626T190000
DTEND;TZID=America/New_York:20240626T220000
DTSTAMP:20260422T042706
CREATED:20240529T183040Z
LAST-MODIFIED:20240529T183223Z
UID:5151-1719428400-1719439200@soulshowmike.org
SUMMARY:soulshowmike's radar: DJ Williams
DESCRIPTION:
URL:https://soulshowmike.org/event/soulshowmikes-radar-dj-williams/
LOCATION:PA
END:VEVENT
BEGIN:VEVENT
DTSTART;TZID=America/New_York:20240626T173000
DTEND;TZID=America/New_York:20240626T203000
DTSTAMP:20260422T042706
CREATED:20240626T115400Z
LAST-MODIFIED:20240626T115406Z
UID:5216-1719423000-1719433800@soulshowmike.org
SUMMARY:soulshowmike at Lorelei
DESCRIPTION:
URL:https://soulshowmike.org/event/soulshowmike-at-lorelei-20/
LOCATION:Lorelei (East Liberty)\, 124 SOUTH HIGHLAND AVENUE\, PA\, 15206\, United States
END:VEVENT
BEGIN:VEVENT
DTSTART;TZID=America/New_York:20240619T180000
DTEND;TZID=America/New_York:20240619T210000
DTSTAMP:20260422T042706
CREATED:20240617T105938Z
LAST-MODIFIED:20240617T105949Z
UID:5202-1718820000-1718830800@soulshowmike.org
SUMMARY:soulshowmike at Lorelei
DESCRIPTION:
URL:https://soulshowmike.org/event/soulshowmike-at-lorelei-19/
LOCATION:Lorelei (East Liberty)\, 124 SOUTH HIGHLAND AVENUE\, PA\, 15206\, United States
END:VEVENT
BEGIN:VEVENT
DTSTART;TZID=America/New_York:20240618T193000
DTEND;TZID=America/New_York:20240618T223000
DTSTAMP:20260422T042706
CREATED:20240618T110207Z
LAST-MODIFIED:20240618T160433Z
UID:5204-1718739000-1718749800@soulshowmike.org
SUMMARY:Fred Wesley at City Winery
DESCRIPTION:Fred Wesley\, City Winery
URL:https://soulshowmike.org/event/fred-wesley-at-city-winery/
LOCATION:PA
END:VEVENT
BEGIN:VEVENT
DTSTART;TZID=America/New_York:20240618T193000
DTEND;TZID=America/New_York:20240618T220000
DTSTAMP:20260422T042706
CREATED:20240617T133144Z
LAST-MODIFIED:20240617T133238Z
UID:5208-1718739000-1718748000@soulshowmike.org
SUMMARY:
DESCRIPTION:Fred Wesley at City Winery
URL:https://soulshowmike.org/event/5208/
LOCATION:PA
END:VEVENT
BEGIN:VEVENT
DTSTART;TZID=America/New_York:20240615T150000
DTEND;TZID=America/New_York:20240615T180000
DTSTAMP:20260422T042706
CREATED:20240614T212635Z
LAST-MODIFIED:20240614T212639Z
UID:5197-1718463600-1718474400@soulshowmike.org
SUMMARY:soulshowmike at Golden Age
DESCRIPTION:
URL:https://soulshowmike.org/event/soulshowmike-at-golden-age-12/
LOCATION:Golden Age Beer Co. (Homestead)\, 337 Eighth Ave.\, Homestead\, PA\, 15210\, United States
END:VEVENT
BEGIN:VEVENT
DTSTART;TZID=America/New_York:20240614T190000
DTEND;TZID=America/New_York:20240614T220000
DTSTAMP:20260422T042706
CREATED:20240529T182635Z
LAST-MODIFIED:20240529T182658Z
UID:5147-1718391600-1718402400@soulshowmike.org
SUMMARY:soulshowmike's radar: Danielle Ponder
DESCRIPTION:
URL:https://soulshowmike.org/event/soulshowmikes-radar-danielle-ponder/
LOCATION:PA
END:VEVENT
BEGIN:VEVENT
DTSTART;TZID=America/New_York:20240612T180000
DTEND;TZID=America/New_York:20240612T210000
DTSTAMP:20260422T042706
CREATED:20240608T123200Z
LAST-MODIFIED:20240608T123204Z
UID:5188-1718215200-1718226000@soulshowmike.org
SUMMARY:soulshowmike at Lorelei
DESCRIPTION:
URL:https://soulshowmike.org/event/soulshowmike-at-lorelei-18/
LOCATION:Lorelei (East Liberty)\, 124 SOUTH HIGHLAND AVENUE\, PA\, 15206\, United States
END:VEVENT
BEGIN:VEVENT
DTSTART;TZID=America/New_York:20240608T150000
DTEND;TZID=America/New_York:20240608T180000
DTSTAMP:20260422T042706
CREATED:20240608T122549Z
LAST-MODIFIED:20240608T123039Z
UID:5186-1717858800-1717869600@soulshowmike.org
SUMMARY:soulshowmike at Golden Age
DESCRIPTION:soulshowmike at Golden Age
URL:https://soulshowmike.org/event/soulshowmike-at-golden-age-11/
LOCATION:Golden Age Beer Co. (Homestead)\, 337 Eighth Ave.\, Homestead\, PA\, 15210\, United States
END:VEVENT
BEGIN:VEVENT
DTSTART;TZID=America/New_York:20240605T180000
DTEND;TZID=America/New_York:20240605T210000
DTSTAMP:20260422T042706
CREATED:20240602T181615Z
LAST-MODIFIED:20240602T182326Z
UID:5173-1717610400-1717621200@soulshowmike.org
SUMMARY:soulshowmike at Lorelei
DESCRIPTION:
URL:https://soulshowmike.org/event/soulshowmike-at-lorelei-17/
LOCATION:Lorelei (East Liberty)\, 124 SOUTH HIGHLAND AVENUE\, PA\, 15206\, United States
END:VEVENT
BEGIN:VEVENT
DTSTART;TZID=America/New_York:20240601T150000
DTEND;TZID=America/New_York:20240601T180000
DTSTAMP:20260422T042706
CREATED:20240529T183536Z
LAST-MODIFIED:20240529T183543Z
UID:5155-1717254000-1717264800@soulshowmike.org
SUMMARY:soulshowmike at Golden Age
DESCRIPTION:
URL:https://soulshowmike.org/event/soulshowmike-at-golden-age-10/
LOCATION:Golden Age Beer Co. (Homestead)\, 337 Eighth Ave.\, Homestead\, PA\, 15210\, United States
END:VEVENT
BEGIN:VEVENT
DTSTART;TZID=America/New_York:20240529T180000
DTEND;TZID=America/New_York:20240529T210000
DTSTAMP:20260422T042706
CREATED:20240529T183353Z
LAST-MODIFIED:20240529T183400Z
UID:5153-1717005600-1717016400@soulshowmike.org
SUMMARY:soulshowmike at Lorelei
DESCRIPTION:
URL:https://soulshowmike.org/event/soulshowmike-at-lorelei-16/
LOCATION:PA
END:VEVENT
BEGIN:VEVENT
DTSTART;TZID=America/New_York:20240525T150000
DTEND;TZID=America/New_York:20240525T180000
DTSTAMP:20260422T042706
CREATED:20240522T192240Z
LAST-MODIFIED:20240522T192247Z
UID:5135-1716649200-1716660000@soulshowmike.org
SUMMARY:soulshowmike not at Golden Age this week
DESCRIPTION:
URL:https://soulshowmike.org/event/soulshowmike-not-at-golden-age-this-week/
LOCATION:Golden Age Beer Co. (Homestead)\, 337 Eighth Ave.\, Homestead\, PA\, 15210\, United States
END:VEVENT
BEGIN:VEVENT
DTSTART;TZID=America/New_York:20240522T180000
DTEND;TZID=America/New_York:20240522T210000
DTSTAMP:20260422T042706
CREATED:20240522T192004Z
LAST-MODIFIED:20240522T192011Z
UID:5133-1716400800-1716411600@soulshowmike.org
SUMMARY:soulshowmike at Lorelei
DESCRIPTION:
URL:https://soulshowmike.org/event/soulshowmike-at-lorelei-15/
LOCATION:Lorelei (East Liberty)\, 124 SOUTH HIGHLAND AVENUE\, PA\, 15206\, United States
END:VEVENT
BEGIN:VEVENT
DTSTART;TZID=America/New_York:20240515T180000
DTEND;TZID=America/New_York:20240515T210000
DTSTAMP:20260422T042706
CREATED:20240513T203427Z
LAST-MODIFIED:20240513T203526Z
UID:5105-1715796000-1715806800@soulshowmike.org
SUMMARY:soulshowmike at Lorelei
DESCRIPTION:soulshowmike at Lorelei
URL:https://soulshowmike.org/event/5105/
LOCATION:Lorelei (East Liberty)\, 124 SOUTH HIGHLAND AVENUE\, PA\, 15206\, United States
END:VEVENT
BEGIN:VEVENT
DTSTART;TZID=America/New_York:20240511T150000
DTEND;TZID=America/New_York:20240511T180000
DTSTAMP:20260422T042706
CREATED:20240508T204131Z
LAST-MODIFIED:20240508T204514Z
UID:5102-1715439600-1715450400@soulshowmike.org
SUMMARY:soulshowmike returns to Golden Age 5/11/24
DESCRIPTION:
URL:https://soulshowmike.org/event/soulshowmike-at-golden-ager/
LOCATION:Golden Age Beer Co. (Homestead)\, 337 Eighth Ave.\, Homestead\, PA\, 15210\, United States
END:VEVENT
BEGIN:VEVENT
DTSTART;TZID=America/New_York:20240508T180000
DTEND;TZID=America/New_York:20240508T210000
DTSTAMP:20260422T042706
CREATED:20240508T203951Z
LAST-MODIFIED:20240508T203956Z
UID:5100-1715191200-1715202000@soulshowmike.org
SUMMARY:soulshowmike at Lorelei
DESCRIPTION:
URL:https://soulshowmike.org/event/soulshowmike-at-lorelei-14/
LOCATION:Lorelei (East Liberty)\, 124 SOUTH HIGHLAND AVENUE\, PA\, 15206\, United States
END:VEVENT
BEGIN:VEVENT
DTSTART;TZID=America/New_York:20240501T180000
DTEND;TZID=America/New_York:20240501T210000
DTSTAMP:20260422T042706
CREATED:20240501T115739Z
LAST-MODIFIED:20240501T115806Z
UID:5093-1714586400-1714597200@soulshowmike.org
SUMMARY:soulshowmike at Lorelei
DESCRIPTION:
URL:https://soulshowmike.org/event/soulshowmike-at-lorelei-13/
LOCATION:Lorelei (East Liberty)\, 124 SOUTH HIGHLAND AVENUE\, PA\, 15206\, United States
END:VEVENT
BEGIN:VEVENT
DTSTART;TZID=America/New_York:20240427T030000
DTEND;TZID=America/New_York:20240427T180000
DTSTAMP:20260422T042706
CREATED:20240419T164406Z
LAST-MODIFIED:20240419T164411Z
UID:5068-1714186800-1714240800@soulshowmike.org
SUMMARY:soulshowmike NOT at Golden Age
DESCRIPTION:
URL:https://soulshowmike.org/event/soulshowmike-not-at-golden-age/
LOCATION:Golden Age Beer Co. (Homestead)\, 337 Eighth Ave.\, Homestead\, PA\, 15210\, United States
END:VEVENT
END:VCALENDAR